BEGIN:VCALENDAR
VERSION:2.0
PRODID:-// - ECPv6.15.20//NONSGML v1.0//EN
CALSCALE:GREGORIAN
METHOD:PUBLISH
X-ORIGINAL-URL:https://o-e-r.shop
X-WR-CALDESC:Evenementen voor 
REFRESH-INTERVAL;VALUE=DURATION:PT1H
X-Robots-Tag:noindex
X-PUBLISHED-TTL:PT1H
BEGIN:VTIMEZONE
TZID:UTC
BEGIN:STANDARD
TZOFFSETFROM:+0000
TZOFFSETTO:+0000
TZNAME:UTC
DTSTART:20240101T000000
END:STANDARD
END:VTIMEZONE
BEGIN:VTIMEZONE
TZID:Europe/Amsterdam
BEGIN:DAYLIGHT
TZOFFSETFROM:+0100
TZOFFSETTO:+0200
TZNAME:CEST
DTSTART:20250330T010000
END:DAYLIGHT
BEGIN:STANDARD
TZOFFSETFROM:+0200
TZOFFSETTO:+0100
TZNAME:CET
DTSTART:20251026T010000
END:STANDARD
BEGIN:DAYLIGHT
TZOFFSETFROM:+0100
TZOFFSETTO:+0200
TZNAME:CEST
DTSTART:20260329T010000
END:DAYLIGHT
BEGIN:STANDARD
TZOFFSETFROM:+0200
TZOFFSETTO:+0100
TZNAME:CET
DTSTART:20261025T010000
END:STANDARD
BEGIN:DAYLIGHT
TZOFFSETFROM:+0100
TZOFFSETTO:+0200
TZNAME:CEST
DTSTART:20270328T010000
END:DAYLIGHT
BEGIN:STANDARD
TZOFFSETFROM:+0200
TZOFFSETTO:+0100
TZNAME:CET
DTSTART:20271031T010000
END:STANDARD
END:VTIMEZONE
BEGIN:VEVENT
DTSTART;TZID=UTC:20251029T130000
DTEND;TZID=UTC:20251109T190000
DTSTAMP:20260423T224034
CREATED:20251029T112923Z
LAST-MODIFIED:20251029T112923Z
UID:852-1761742800-1762714800@o-e-r.shop
SUMMARY:Ondernemersfair Westerveld in Diever
DESCRIPTION:8 november Ondernemersfair Westerveld van 13.00-19.00 \n\n\n\nLocatie: tegenover Brasserie PUUR in Diever. \n\n\n\nDit unieke evenement biedt niet alleen gelegenheid om nieuwe ondernemers te ontmoeten of bij te praten met bekenden. Er is ook ontzettend veel te doen\, te zien en te beleven. Of je nu inwoner bent van Westerveld of ondernemer\, op zoek bent naar een baan of stageplek\, een nieuwe samenwerking wil of informatie over subsidies en opleidingsmogelijkheden. Ondernemersfair Westerveld is dé plek waar je moet zijn! Maak kennis met de verschillende bedrijven in Westerveld en laat je inspireren door hun innovatieve ideeën en producten. \n\n\n\nDeze dag barst van de gezelligheid\, saamhorigheid\, samenwerking en nieuwe contacten. Mis deze unieke kans niet en kom langs op de Ondernemersfair Westerveld op zaterdag 8 november. \n\n\n\nDe toegang is gratis.
URL:https://o-e-r.shop/markt/ondernemersfair-westerveld-in-diever/
END:VEVENT
BEGIN:VEVENT
DTSTART;TZID=Europe/Amsterdam:20260426T100000
DTEND;TZID=Europe/Amsterdam:20260426T170000
DTSTAMP:20260423T224034
CREATED:20260222T130543Z
LAST-MODIFIED:20260222T130543Z
UID:1097-1777197600-1777222800@o-e-r.shop
SUMMARY:26 april markt Grenzeloos in Doldersum
DESCRIPTION:Zondag 26 april is er van 10.00-17.00 een leuke markt bij Grenzeloos in Doldersum.  Er worden o.a. heel veel handgemaakte producten verkocht waaronder mijn handgemaakte tassen\, keukenschorten\, oer-stoven en nog veel meer.
URL:https://o-e-r.shop/markt/26-april-markt-grenzeloos-in-doldersum/
LOCATION:Doldersum\, Boylerstraat 12\, Doldersum
END:VEVENT
END:VCALENDAR